BEGIN:VCALENDAR
VERSION:2.0
PRODID:-//Greywell Parish - ECPv6.15.20//NONSGML v1.0//EN
CALSCALE:GREGORIAN
METHOD:PUBLISH
X-WR-CALNAME:Greywell Parish
X-ORIGINAL-URL:https://greywellparish.gov.uk
X-WR-CALDESC:Events for Greywell Parish
REFRESH-INTERVAL;VALUE=DURATION:PT1H
X-Robots-Tag:noindex
X-PUBLISHED-TTL:PT1H
BEGIN:VTIMEZONE
TZID:Europe/London
BEGIN:DAYLIGHT
TZOFFSETFROM:+0000
TZOFFSETTO:+0100
TZNAME:BST
DTSTART:20210328T010000
END:DAYLIGHT
BEGIN:STANDARD
TZOFFSETFROM:+0100
TZOFFSETTO:+0000
TZNAME:GMT
DTSTART:20211031T010000
END:STANDARD
BEGIN:DAYLIGHT
TZOFFSETFROM:+0000
TZOFFSETTO:+0100
TZNAME:BST
DTSTART:20220327T010000
END:DAYLIGHT
BEGIN:STANDARD
TZOFFSETFROM:+0100
TZOFFSETTO:+0000
TZNAME:GMT
DTSTART:20221030T010000
END:STANDARD
BEGIN:DAYLIGHT
TZOFFSETFROM:+0000
TZOFFSETTO:+0100
TZNAME:BST
DTSTART:20230326T010000
END:DAYLIGHT
BEGIN:STANDARD
TZOFFSETFROM:+0100
TZOFFSETTO:+0000
TZNAME:GMT
DTSTART:20231029T010000
END:STANDARD
BEGIN:DAYLIGHT
TZOFFSETFROM:+0000
TZOFFSETTO:+0100
TZNAME:BST
DTSTART:20240331T010000
END:DAYLIGHT
BEGIN:STANDARD
TZOFFSETFROM:+0100
TZOFFSETTO:+0000
TZNAME:GMT
DTSTART:20241027T010000
END:STANDARD
BEGIN:DAYLIGHT
TZOFFSETFROM:+0000
TZOFFSETTO:+0100
TZNAME:BST
DTSTART:20250330T010000
END:DAYLIGHT
BEGIN:STANDARD
TZOFFSETFROM:+0100
TZOFFSETTO:+0000
TZNAME:GMT
DTSTART:20251026T010000
END:STANDARD
END:VTIMEZONE
BEGIN:VEVENT
DTSTART;TZID=Europe/London:20240420T200000
DTEND;TZID=Europe/London:20240420T220000
DTSTAMP:20260425T121914
CREATED:20240418T111710Z
LAST-MODIFIED:20240419T103232Z
UID:996-1713643200-1713650400@greywellparish.gov.uk
SUMMARY:Greywell Film Night
DESCRIPTION:Greywell Film Night – One Life\n\n\n\n Greywell Village Hall\, Greywell\, RG29 1BZ \n\n\n\n Sat 20th April 2024\n\n\n\n\n\n\n\nIn 1938\, on the eve of World War 2\, Nicholas Winton\, an ordinary stockbroker\, became a hero when he coordinated the transport of hundreds of children to safety as the war began. One Life becomes a half-memory piece as the older Winton (Anthony Hopkins) comes to terms with what he did in his youth and a war movie as the younger Winton (Johnny Flynn) races to save more lives. With Helena Bonham Carter as Winton’s mother. \nView Trailer:  One Life Trailer\n\nContactless Bar\n\nStrictly only Drinks and Snacks purchased from the bar to be consumed at Film Night Events
URL:https://greywellparish.gov.uk/event/greywell-film-night
LOCATION:Village Hall
CATEGORIES:Events
ATTACH;FMTTYPE=image/webp:https://greywellparish.gov.uk/wp-content/uploads/2024/04/49538-17101666517801-m.webp
END:VEVENT
BEGIN:VEVENT
DTSTART;TZID=Europe/London:20240313T180000
DTEND;TZID=Europe/London:20240313T180000
DTSTAMP:20260425T121914
CREATED:20240209T173058Z
LAST-MODIFIED:20240326T120123Z
UID:693-1710352800-1710352800@greywellparish.gov.uk
SUMMARY:Parish Council Meeting
DESCRIPTION:This meeting will be held at Village Hall. Members of the public are welcome to attend; please see the agenda for more details.
URL:https://greywellparish.gov.uk/event/parish-council-meeting-3
LOCATION:Village Hall
CATEGORIES:Parish Council Meetings
END:VEVENT
BEGIN:VEVENT
DTSTART;TZID=Europe/London:20240117T180000
DTEND;TZID=Europe/London:20240117T180000
DTSTAMP:20260425T121914
CREATED:20240209T172208Z
LAST-MODIFIED:20240326T120328Z
UID:687-1705514400-1705514400@greywellparish.gov.uk
SUMMARY:Parish Council Meeting
DESCRIPTION:This meeting will be held at Village Hall. Members of the public are welcome to attend; please see the agenda for more details.
URL:https://greywellparish.gov.uk/event/parish-council-meeting
LOCATION:Village Hall
CATEGORIES:Parish Council Meetings
END:VEVENT
BEGIN:VEVENT
DTSTART;TZID=Europe/London:20231115T180000
DTEND;TZID=Europe/London:20231115T180000
DTSTAMP:20260425T121914
CREATED:20240209T172634Z
LAST-MODIFIED:20240403T172322Z
UID:688-1700071200-1700071200@greywellparish.gov.uk
SUMMARY:Parish Council Meeting
DESCRIPTION:This meeting will be held at Village Hall. Members of the public are welcome to attend; please see the agenda for more details.
URL:https://greywellparish.gov.uk/event/parish-council-meeting-2
LOCATION:Village Hall
CATEGORIES:Parish Council Meetings
END:VEVENT
BEGIN:VEVENT
DTSTART;TZID=Europe/London:20230906T180000
DTEND;TZID=Europe/London:20230906T180000
DTSTAMP:20260425T121914
CREATED:20240403T172422Z
LAST-MODIFIED:20240403T172422Z
UID:828-1694023200-1694023200@greywellparish.gov.uk
SUMMARY:Parish Council Meeting
DESCRIPTION:This meeting will be held at Village Hall. Members of the public are welcome to attend; please see the agenda for more details.
URL:https://greywellparish.gov.uk/event/parish-council-meeting-4
LOCATION:Village Hall
CATEGORIES:Parish Council Meetings
END:VEVENT
BEGIN:VEVENT
DTSTART;TZID=Europe/London:20230705T180000
DTEND;TZID=Europe/London:20230705T180000
DTSTAMP:20260425T121914
CREATED:20240403T172545Z
LAST-MODIFIED:20240403T172545Z
UID:831-1688580000-1688580000@greywellparish.gov.uk
SUMMARY:Parish Council Meeting
DESCRIPTION:This meeting will be held at Village Hall. Members of the public are welcome to attend; please see the agenda for more details.
URL:https://greywellparish.gov.uk/event/parish-council-meeting-5
LOCATION:Village Hall
CATEGORIES:Parish Council Meetings
END:VEVENT
BEGIN:VEVENT
DTSTART;TZID=Europe/London:20230524T180000
DTEND;TZID=Europe/London:20230524T180000
DTSTAMP:20260425T121914
CREATED:20240403T172646Z
LAST-MODIFIED:20240403T172646Z
UID:834-1684951200-1684951200@greywellparish.gov.uk
SUMMARY:Annual Meeting of the Parish Council
DESCRIPTION:This meeting will be held at Village Hall. Members of the public are welcome to attend; please see the agenda for more details.
URL:https://greywellparish.gov.uk/event/annual-meeting-of-the-parish-council
LOCATION:Village Hall
CATEGORIES:Parish Council Meetings
END:VEVENT
BEGIN:VEVENT
DTSTART;TZID=Europe/London:20230322T180000
DTEND;TZID=Europe/London:20230322T180000
DTSTAMP:20260425T121914
CREATED:20240409T090253Z
LAST-MODIFIED:20240409T090253Z
UID:854-1679508000-1679508000@greywellparish.gov.uk
SUMMARY:Parish Council Meeting
DESCRIPTION:This meeting will be held at Village Hall. Members of the public are welcome to attend; please see the agenda for more details.
URL:https://greywellparish.gov.uk/event/parish-council-meeting-6
LOCATION:Village Hall
CATEGORIES:Parish Council Meetings
END:VEVENT
BEGIN:VEVENT
DTSTART;TZID=Europe/London:20230131T180000
DTEND;TZID=Europe/London:20230131T180000
DTSTAMP:20260425T121914
CREATED:20240409T090351Z
LAST-MODIFIED:20240409T090351Z
UID:857-1675188000-1675188000@greywellparish.gov.uk
SUMMARY:Parish Council Meeting
DESCRIPTION:This meeting will be held at Village Hall. Members of the public are welcome to attend; please see the agenda for more details.
URL:https://greywellparish.gov.uk/event/parish-council-meeting-8
LOCATION:Village Hall
CATEGORIES:Parish Council Meetings
END:VEVENT
BEGIN:VEVENT
DTSTART;TZID=Europe/London:20221124T180000
DTEND;TZID=Europe/London:20221124T180000
DTSTAMP:20260425T121914
CREATED:20240409T090434Z
LAST-MODIFIED:20240409T090728Z
UID:860-1669312800-1669312800@greywellparish.gov.uk
SUMMARY:Parish Council Meeting
DESCRIPTION:This meeting will be held at Village Hall. Members of the public are welcome to attend; please see the agenda for more details.
URL:https://greywellparish.gov.uk/event/parish-council-meeting-9
LOCATION:Village Hall
CATEGORIES:Parish Council Meetings
END:VEVENT
BEGIN:VEVENT
DTSTART;TZID=Europe/London:20221006T180000
DTEND;TZID=Europe/London:20221006T180000
DTSTAMP:20260425T121914
CREATED:20240409T090525Z
LAST-MODIFIED:20240409T090525Z
UID:863-1665079200-1665079200@greywellparish.gov.uk
SUMMARY:Parish Council Meeting
DESCRIPTION:This meeting will be held at Village Hall. Members of the public are welcome to attend; please see the agenda for more details.
URL:https://greywellparish.gov.uk/event/parish-council-meeting-10
LOCATION:Village Hall
CATEGORIES:Parish Council Meetings
END:VEVENT
BEGIN:VEVENT
DTSTART;TZID=Europe/London:20220721T180000
DTEND;TZID=Europe/London:20220721T180000
DTSTAMP:20260425T121914
CREATED:20240409T090804Z
LAST-MODIFIED:20240409T090849Z
UID:868-1658426400-1658426400@greywellparish.gov.uk
SUMMARY:Parish Council Meeting
DESCRIPTION:This meeting will be held at Village Hall. Members of the public are welcome to attend; please see the agenda for more details.
URL:https://greywellparish.gov.uk/event/parish-council-meeting-11
LOCATION:Village Hall
CATEGORIES:Parish Council Meetings
END:VEVENT
BEGIN:VEVENT
DTSTART;TZID=Europe/London:20220519T180000
DTEND;TZID=Europe/London:20220519T180000
DTSTAMP:20260425T121914
CREATED:20240409T090951Z
LAST-MODIFIED:20240409T091032Z
UID:874-1652983200-1652983200@greywellparish.gov.uk
SUMMARY:Annual Meeting of the Parish Council
DESCRIPTION:This meeting will be held at Village Hall. Members of the public are welcome to attend; please see the agenda for more details.
URL:https://greywellparish.gov.uk/event/annual-meeting-of-the-parish-council-3
LOCATION:Village Hall
CATEGORIES:Parish Council Meetings
END:VEVENT
END:VCALENDAR